BEGIN:VCALENDAR
VERSION:2.0
PRODID:-//wp-events-plugin.com//7.2.3.1//EN
TZID:America/Toronto
X-WR-TIMEZONE:America/Toronto
BEGIN:VEVENT
UID:5@ingridcryns.ca
DTSTART;TZID=America/Toronto:20151122T090000
DTEND;TZID=America/Toronto:20151122T170000
DTSTAMP:20151116T161328Z
URL:https://ingridcryns.ca/events/body-mind-soul/
SUMMARY:Body\, Mind & Soul:  Integrate Your Body with your own Soul Languag
 e * | Nov 22\, 2015 | FULL: REGISTRATION CLOSED
DESCRIPTION:To develop and deepen into your soul-self\, it is essential to 
 understand the inter-relationships with the body\, mind and your unique so
 ul to empower yourself to create the world that you deeply desire.  Your o
 uter worlds will be explored as a reflection of your inner worlds. From ps
 ychotherapeutic &amp\; mystical models of consciousness to awareness of ev
 er expanding realities beyond the physical\, this workshop will give you a
 n opportunity to dive deeply into your soul and come back with a greater s
 ense of a holistic self.  Your distinctive Soul language will be begun to 
 be explored through experiential exercises that encompasses the spectrum f
 rom body felt sense awareness to energetic and non-physical awareness.
ATTACH;FMTTYPE=image/jpeg:https://ingridcryns.ca/wp-content/uploads/2014/1
 0/Soul-Truth-7-300x232.jpg
CATEGORIES:BUILDING SOUL WORKSHOPS: SOUL HEALING,Mentorship Program,Wild
 Earth Wisdom WORKSHOPS: SELF-SUFFICIENT LIFESTYLE
LOCATION:Zephyr\, Zephyr\, Uxbridge\, Ontario\, L0E 1T0\, Canada
GEO:44.2010255;-79.26513640000002
X-APPLE-STRUCTURED-LOCATION;VALUE=URI;X-ADDRESS=Zephyr\, Uxbridge\, Ontario
 \, L0E 1T0\, Canada;X-APPLE-RADIUS=100;X-TITLE=Zephyr:geo:44.2010255,-79.2
 6513640000002
END:VEVENT
BEGIN:VTIMEZONE
TZID:America/Toronto
X-LIC-LOCATION:America/Toronto
BEGIN:STANDARD
DTSTART:20151101T010000
TZOFFSETFROM:-0400
TZOFFSETTO:-0500
TZNAME:EST
END:STANDARD
END:VTIMEZONE
END:VCALENDAR