BEGIN:VCALENDAR
VERSION:2.0
PRODID:-//wp-events-plugin.com//7.2.3.1//EN
TZID:America/Toronto
X-WR-TIMEZONE:America/Toronto
BEGIN:VEVENT
UID:21@ingridcryns.ca
DTSTART;TZID=America/Toronto:20221016T090000
DTEND;TZID=America/Toronto:20221016T170000
DTSTAMP:20220413T145105Z
URL:https://ingridcryns.ca/events/eco-conscious-living/
SUMMARY:Eco Conscious Living: Create Your Own Personal Transition Plan! | C
 oming soon in 2022
DESCRIPTION:Eco Conscious Living\nCreate Your Own Personal Transition Plan!
  \nTBD 2022 9 am - 5 pm\nZephyr\, Ontario\n$175 At the Door\n$150 After ..
 ..\n\n\n&nbsp\;\n\nYou will learn the essential principles to understand h
 ow to live and build with deep ecology awareness. From micro to macro syst
 ems\, carbon foot prints\, simple living and living small\, you will gain 
 knowledge of the how\, what and why we need to make a personal commitment 
 to living lightly and with a deeper respect for what the Earth truly needs
  to regain her balance.\n\n&nbsp\;\n\nWhat you will Learn\n\n 	Deep Ecolog
 y Consciousness &amp\; Commitment (Includes Embodied Energy &amp\; Carbon 
 Footprint Awareness)\n 	Personal &amp\; Community Eco System Awareness (In
 dividual Connection to Micro systems vs Macro Systems Environmental Impact
 )\n 	Simple Living\, Small Houses: Reorganizing expectations – what do y
 ou really need? Organization priorities\, attachments vs clutter (clearing
 )\, phasing transition strategies\n 	Experiential Practice: Create Your Ow
 n Personal Transition Plan &amp\; experience Group Awareness Raising\n\nLu
 nch is Included. \n\nSpace is limited\, so please register early.\n\nClick
  here to book your place!
ATTACH;FMTTYPE=image/jpeg:https://ingridcryns.ca/wp-content/uploads/2015/0
 8/eco-living-tree.jpeg
CATEGORIES:Mentorship Program,SOMA EARTH WORKSHOPS: HOLISTIC LIFE &amp;
 BUILDING,Wild Earth Wisdom WORKSHOPS: SELF-SUFFICIENT LIFESTYLE
LOCATION:Zephyr\, Zephyr\, Uxbridge\, Ontario\, L0E 1T0\, Canada
GEO:44.2010255;-79.26513640000002
X-APPLE-STRUCTURED-LOCATION;VALUE=URI;X-ADDRESS=Zephyr\, Uxbridge\, Ontario
 \, L0E 1T0\, Canada;X-APPLE-RADIUS=100;X-TITLE=Zephyr:geo:44.2010255,-79.2
 6513640000002
END:VEVENT
BEGIN:VTIMEZONE
TZID:America/Toronto
X-LIC-LOCATION:America/Toronto
BEGIN:DAYLIGHT
DTSTART:20220313T030000
TZOFFSETFROM:-0500
TZOFFSETTO:-0400
TZNAME:EDT
END:DAYLIGHT
END:VTIMEZONE
END:VCALENDAR