BEGIN:VCALENDAR
VERSION:2.0
PRODID:-//wp-events-plugin.com//7.2.3.1//EN
TZID:America/Toronto
X-WR-TIMEZONE:America/Toronto
BEGIN:VEVENT
UID:24@ingridcryns.ca
DTSTART;TZID=America/Toronto:20220625T130000
DTEND;TZID=America/Toronto:20220625T170000
DTSTAMP:20220414T080202Z
URL:https://ingridcryns.ca/events/inner-outer-self-sufficiency/
SUMMARY:Inner & Outer Self Sufficiency | June 25\, 2022
DESCRIPTION:Inner &amp\; Outer Self Sufficiency:\nDeepening Integration of 
 your Earth Inter-Connectedness\nJune 25\, 2022 \n1 pm - 5 pm\nZephyr\, Ont
 ario\nIn-Person Workshop\n$75 AfterMarch 10\n$50 Early Bird Special \nUnde
 rstanding who you are begins with a cultivated curiosity. This workshop wi
 ll explain why it is helpful to spend the time to nurture a deeper sense o
 f yourself to empower you with greater self-responsibility to create your 
 preferred reality. Awareness and consciousness philosophies to how to grou
 nd your spiritual growth\, including the Earth\, will be explored. From le
 arning different forms of meditation alone or with a group\, to investigat
 ing the darker\, unconscious or shadow side of the self to gain greater cl
 arity\, psychotherapeutic principles\, soul healing\, integrating Homestea
 ding Lifestyle Living Principles will be introduced.\n\nWhat you will Lear
 n\n\n 	The Brain\, Heart\, Body &amp\; The Need to Cultivate the Deeper So
 ul Self\n 	Consciousness Awareness and Living a Homesteading Regenerative 
 Lifestyle\n 	Psychotherapy\, Self-Responsibility\, Healing the Soul and Ea
 rth Eco-Consciousness\n 	Experiential Practices\n\nSpace is very limited\,
  so please register early.\n\n&nbsp\;\n\n\n\n&nbsp\;\n\n&nbsp\;
ATTACH;FMTTYPE=image/jpeg:https://ingridcryns.ca/wp-content/uploads/2022/0
 4/IMG_1068-scaled.jpg
CATEGORIES:BUILDING SOUL WORKSHOPS: SOUL HEALING,Mentorship Program,Wild
 Earth Wisdom WORKSHOPS: SELF-SUFFICIENT LIFESTYLE
LOCATION:Zephyr\, Zephyr\, Uxbridge\, Ontario\, L0E 1T0\, Canada
GEO:44.2010255;-79.26513640000002
X-APPLE-STRUCTURED-LOCATION;VALUE=URI;X-ADDRESS=Zephyr\, Uxbridge\, Ontario
 \, L0E 1T0\, Canada;X-APPLE-RADIUS=100;X-TITLE=Zephyr:geo:44.2010255,-79.2
 6513640000002
END:VEVENT
BEGIN:VTIMEZONE
TZID:America/Toronto
X-LIC-LOCATION:America/Toronto
BEGIN:DAYLIGHT
DTSTART:20220313T030000
TZOFFSETFROM:-0500
TZOFFSETTO:-0400
TZNAME:EDT
END:DAYLIGHT
END:VTIMEZONE
END:VCALENDAR