BEGIN:VCALENDAR
VERSION:2.0
PRODID:-//wp-events-plugin.com//7.2.3.1//EN
TZID:America/Toronto
X-WR-TIMEZONE:America/Toronto
BEGIN:VEVENT
UID:25@ingridcryns.ca
DTSTART;TZID=America/Toronto:20220710T093000
DTEND;TZID=America/Toronto:20220711T163000
DTSTAMP:20220413T144826Z
URL:https://ingridcryns.ca/events/listening-to-the-wisdom-of-gaia/
SUMMARY:Listening to the Wisdom of GAIA | Coming soon in 2022
DESCRIPTION:[caption id="attachment_42" align="alignleft" width="229"] Moth
 er Earth Gaia by Pearl Whitecrow[/caption]\nListening to the Wisdom of Gai
 a\nDate: TBD\n\nThis workshop is about how to listen and communicate with 
 the wisdom of Nature. I have trained in this for many years with various e
 xperts and have developed a specialized body of knowledge that I'd like to
  share with others. \n\nThis is a weekend retreat that begins with an intr
 oductory experience on Friday evening. \n\nI will create a sacred space an
 d explain general principles of the consciousness of Gaia and the plants &
 amp\; trees\, etc. Then I will guide people in a few different types of ex
 ercises so that they learn how to clear the mind to receive information fr
 om Nature directly. People will have the opportunity to share after each e
 xercise which will enrich the group experiences and confirm what they are 
 feeling\, seeing or hearing.\n[This workshop began as part of the Harvest 
 Gathering Event\, in 2015\, an Earth-Based Skills Exchange Event\, near Li
 ttle Britain in Kawartha Lakes. See www.harvestgathering.ca for more info.
 ]
ATTACH;FMTTYPE=image/jpeg:https://ingridcryns.ca/wp-content/uploads/2015/0
 8/Mother-Earth-Gai-by-Pearl-Whitecrow.jpg
CATEGORIES:BUILDING SOUL WORKSHOPS: SOUL HEALING
LOCATION:Zephyr\, Zephyr\, Uxbridge\, Ontario\, L0E 1T0\, Canada
GEO:44.2010255;-79.26513640000002
X-APPLE-STRUCTURED-LOCATION;VALUE=URI;X-ADDRESS=Zephyr\, Uxbridge\, Ontario
 \, L0E 1T0\, Canada;X-APPLE-RADIUS=100;X-TITLE=Zephyr:geo:44.2010255,-79.2
 6513640000002
END:VEVENT
BEGIN:VTIMEZONE
TZID:America/Toronto
X-LIC-LOCATION:America/Toronto
BEGIN:DAYLIGHT
DTSTART:20220313T030000
TZOFFSETFROM:-0500
TZOFFSETTO:-0400
TZNAME:EDT
END:DAYLIGHT
END:VTIMEZONE
END:VCALENDAR