BEGIN:VCALENDAR
VERSION:2.0
PRODID:-//wp-events-plugin.com//7.2.3.1//EN
TZID:America/Toronto
X-WR-TIMEZONE:America/Toronto
BEGIN:VEVENT
UID:22@ingridcryns.ca
DTSTART;TZID=America/Toronto:20221113T090000
DTEND;TZID=America/Toronto:20221113T170000
DTSTAMP:20220413T145026Z
URL:https://ingridcryns.ca/events/natural-building-design-2/
SUMMARY:Natural Building Design: New or Retrofit | Coming soon in 2022
DESCRIPTION:\n\nNatural Building Design*\nNew or Retrofit\nTBD 2022 9 am - 
 5 pm\n$175 At the Door\n$150 After ...\n\n&nbsp\;\nThis is a fast paced da
 y that summarizes an Eco-Architect’s expertise in Natural Living Buildin
 g. Healthy and Natural Building techniques will be taught\, along with the
  basic essentials of passive solar design. Find out about what are the bes
 t eco-authentic\, healthy and non-toxic building materials &amp\; systems 
 to consider and gain a basic understanding of the simplest and more practi
 cal sustainable design details. The focus of this workshop will be from: n
 atural building science to house design for your personal soul satisfactio
 n\, from permit requirements to hiring contractors\, to how to sketch or h
 and draft your own design\n\nWhat you will Learn\n\n\n 	Living Building De
 sign for Earth-Centred Humans: Building in your own Soul presence with Bea
 uty\, Harmony\, Balance (includes a Sacred Geometry Intro)\n 	Healthy Livi
 ng Building Essentials: For People\, Land and Communities\n 	Land Selectio
 n &amp\; Passive Solar Principles (New &amp\; Retrofit)\n 	Permit requirem
 ents\, the design to construction process &amp\; hiring contractors or sub
 -trades\n 	Earth\, Straw &amp\; Wood: A Natural Building Science Essential
 s Primer\n 	Experiential Practice: Design or Retrofit Your Personal Soul H
 ome Plan (Includes hand drafting lesson)\n\nSpace is very limited\, so ple
 ase register early.\n\nClick here to book your place!
ATTACH;FMTTYPE=image/jpeg:https://ingridcryns.ca/wp-content/uploads/2014/0
 8/farmhouse1-e1412713553809.jpg
CATEGORIES:Mentorship Program,SOMA EARTH WORKSHOPS: HOLISTIC LIFE &amp;
 BUILDING,Wild Earth Wisdom WORKSHOPS: SELF-SUFFICIENT LIFESTYLE
LOCATION:Zephyr\, Zephyr\, Uxbridge\, Ontario\, L0E 1T0\, Canada
GEO:44.2010255;-79.26513640000002
X-APPLE-STRUCTURED-LOCATION;VALUE=URI;X-ADDRESS=Zephyr\, Uxbridge\, Ontario
 \, L0E 1T0\, Canada;X-APPLE-RADIUS=100;X-TITLE=Zephyr:geo:44.2010255,-79.2
 6513640000002
END:VEVENT
BEGIN:VTIMEZONE
TZID:America/Toronto
X-LIC-LOCATION:America/Toronto
BEGIN:STANDARD
DTSTART:20221106T010000
TZOFFSETFROM:-0400
TZOFFSETTO:-0500
TZNAME:EST
END:STANDARD
END:VTIMEZONE
END:VCALENDAR