BEGIN:VCALENDAR
VERSION:2.0
PRODID:-//wp-events-plugin.com//7.2.3.1//EN
TZID:America/Toronto
X-WR-TIMEZONE:America/Toronto
BEGIN:VEVENT
UID:36@ingridcryns.ca
DTSTART;TZID=America/Toronto:20190610T093000
DTEND;TZID=America/Toronto:20191006T170000
DTSTAMP:20220121T160257Z
URL:https://ingridcryns.ca/events/natural-building-finishes-plasters-sept-
 25/
SUMMARY:Natural Building Finishes & Plasters | June 10\, 2019
DESCRIPTION:Natural Building Workshops\nNatural Building Finishes &amp\; Pl
 asters \nBuilding or Retrofitting your Dream Home Naturally with Healthy\,
  Non-Toxic\, Sustainable Materials \n\nSunday June 10                Healt
 hy Building with Earth\, Straw &amp\; Clay\nSunday July 17                
   Building Naturally + Earth Bag Intensive\nSunday Sept 25                
  Natural Building Finishes &amp\; Plasters\nLocation: Wild Earth Farm\, Ze
 phyr\, ON\nAs we are discovering the importance of eating local\, organic 
 &amp\; healthier food\, you may also begin to become aware of the need to 
 live in a healthier home that also reflects those same values.\n\nCome and
  be inspired with a brief history of Natural Building and how you can get 
 up to date with the practical basics of the growing organic building movem
 ent of how to build more naturally in Ontario. These workshops may include
  demos of Tiny House building\, retrofitting\, straw bale light straw-clay
 \, cob\, earth bag and other alternative building options\, with hands on 
 experience of an earth bag building project\, earth plaster\, cob &amp\; N
 atural Finishes (as indicated in dates above).\n\nHosted by Ingrid Cryns\,
  Eco Architect\n\nEarly Bird Pricing Ticket – $165 + HST\n\nAdvanced Pri
 cing Ticket – $185 + HST\n\nWeek Before/Day of Pricing Ticket  – $195 
 + HST \n\n        
ATTACH;FMTTYPE=image/jpeg:https://ingridcryns.ca/wp-content/uploads/2014/1
 0/plastering.jpg
CATEGORIES:Mentorship Program,SOMA EARTH WORKSHOPS: HOLISTIC LIFE &amp;
 BUILDING,Wild Earth Wisdom WORKSHOPS: SELF-SUFFICIENT LIFESTYLE
LOCATION:Zephyr\, Zephyr\, Uxbridge\, Ontario\, L0E 1T0\, Canada
GEO:44.2010255;-79.26513640000002
X-APPLE-STRUCTURED-LOCATION;VALUE=URI;X-ADDRESS=Zephyr\, Uxbridge\, Ontario
 \, L0E 1T0\, Canada;X-APPLE-RADIUS=100;X-TITLE=Zephyr:geo:44.2010255,-79.2
 6513640000002
END:VEVENT
BEGIN:VTIMEZONE
TZID:America/Toronto
X-LIC-LOCATION:America/Toronto
BEGIN:DAYLIGHT
DTSTART:20190310T030000
TZOFFSETFROM:-0500
TZOFFSETTO:-0400
TZNAME:EDT
END:DAYLIGHT
END:VTIMEZONE
END:VCALENDAR