BEGIN:VCALENDAR
VERSION:2.0
PRODID:-//wp-events-plugin.com//7.2.3.1//EN
TZID:America/Toronto
X-WR-TIMEZONE:America/Toronto
BEGIN:VEVENT
UID:41@ingridcryns.ca
DTSTART;TZID=America/Toronto:20231019T120000
DTEND;TZID=America/Toronto:20231019T130000
DTSTAMP:20231018T115016Z
URL:https://ingridcryns.ca/events/outer-resiliency-wild-earth-homesteading
 -introduction/
SUMMARY:Outer Resiliency FREE ONLINE | Wild Earth Homesteading Introduction
DESCRIPTION:Outer Resiliency | Wild Earth Homesteading Introduction\nThe pa
 th to a Self-Sufficient Way of Life\nRelease yourself from the modern-day 
 dependencies that hold you hostage. We’re depleting the earth’s natura
 l resources\, polluting the planet\, and the financial and social systems 
 are crumbling. \n&nbsp\;\n\n\nIt’s time to join the Self-Sufficiency Re
 volution!\n&nbsp\;\n\nWE Wisdom Homesteading is for you if:\n\n 	you’re
  realizing that there are some big changes and risks happening in the worl
 d today and you want to be protected and find or create a community to sup
 port you\n 	you know that you need to make changes\, but you’re not sure
  where to start\n 	you are aware that the ‘systems’ are falling apart\
 , are becoming more eco-conscious and would like to be living closer to th
 e land\, perhaps also with a smaller carbon footprint\n\nWE Wisdom Homeste
 ading can help you:\n\n 	get unstuck and moving toward a better balanced\
 , healthier and more sustainable lifestyle\n 	understand how your values a
 nd needs can inform your unique vision\n 	open up options and possibilitie
 s that you didn’t know you had\n 	connect with like-minded sustainabilit
 y-seekers just like you\n 	build a self-sufficient living plan that is per
 sonalized to your own goals\, budgets and timelines\n\n\nReserve Your Spot
 !\n\nDo You Have a Plan?\nAre you concerned about:\n\n 	rising food prices
 \n 	volatile financial economy\n 	extreme weather patterns\n 	limited ener
 gy resources (peak oil crisis)\n\nThere’s a better way!\n\n 	Creative wa
 ys to grow your own food\n 	Multiple alternative low-energy options\n 	Fol
 low the deep wisdom of nature\n 	Reclaim homesteading skills\n\nJoin us to
  explore your Self-Sufficient Living plan with Wild Earth Guide\, Ingrid C
 ryns\, who will walk the journey with you!
CATEGORIES:Wild Earth Wisdom WORKSHOPS: SELF-SUFFICIENT LIFESTYLE
LOCATION:Zephyr\, Zephyr\, Uxbridge\, Ontario\, L0E 1T0\, Canada
GEO:44.2010255;-79.26513640000002
X-APPLE-STRUCTURED-LOCATION;VALUE=URI;X-ADDRESS=Zephyr\, Uxbridge\, Ontario
 \, L0E 1T0\, Canada;X-APPLE-RADIUS=100;X-TITLE=Zephyr:geo:44.2010255,-79.2
 6513640000002
END:VEVENT
BEGIN:VTIMEZONE
TZID:America/Toronto
X-LIC-LOCATION:America/Toronto
BEGIN:DAYLIGHT
DTSTART:20230312T030000
TZOFFSETFROM:-0500
TZOFFSETTO:-0400
TZNAME:EDT
END:DAYLIGHT
END:VTIMEZONE
END:VCALENDAR