BEGIN:VCALENDAR
VERSION:2.0
PRODID:-//wp-events-plugin.com//7.2.3.1//EN
TZID:America/Toronto
X-WR-TIMEZONE:America/Toronto
BEGIN:VEVENT
UID:28@ingridcryns.ca
DTSTART;TZID=America/Toronto;VALUE=DATE:20160723
DTEND;TZID=America/Toronto;VALUE=DATE:20160801
DTSTAMP:20160512T143124Z
URL:https://ingridcryns.ca/events/ssef-mentorship-intensives-2/
SUMMARY:SSEF Mentorship Intensive 2 | July 23 - 31
DESCRIPTION:Homesteading &amp\; Natural Building\n\nSSEF Mentorship Intensi
 ve 2 | July 23 - 31\n\nWild Earth Wisdom Eco Farm Homesteading &amp\; Smal
 l Scale Building Projects\n\nJune 4 – 11          Tiny House Bus Retrofi
 t\, Outhouse &amp\; Outdoor Shower\n\nJuly 23 – 31         Earth Bag Col
 d Cellar – Foundation\, Walls\, Framing\n\nSept 24 – Oct 1  Cold Cella
 r Plaster\, Cob &amp\; Natural Finishes\n\nLocation: SSEF\, Zephyr\, Ontar
 io\n\nThese Mentorship intensives are offered by application (max. 4 peopl
 e) at no charge.  Room (camping) &amp\; board included. Min. 3\, 5 or 9 da
 y commitment required. They are hands on experience that also includes hom
 esteading work\, such as chicken &amp\; bee care\, gardening\, etc.\n\nA v
 ariety of theoretical teachings will be included on healthy\, natural &amp
 \; sustainable living &amp\; building options in Ontario.\n\nHosted by Ing
 rid Cryns\, Eco Architect &amp\; her partner\, Brad Ruelens\, Builder\, Wo
 D\n\nFor more info &amp\; Application Form\, email: ingrid@somasoul.ca\n\n
ATTACH;FMTTYPE=image/jpeg:https://ingridcryns.ca/wp-content/uploads/2016/0
 5/earth-bag-with-logo-1-scaled.jpg
CATEGORIES:Mentorship Program,SOMA EARTH WORKSHOPS: HOLISTIC LIFE &amp;
 BUILDING,Wild Earth Wisdom WORKSHOPS: SELF-SUFFICIENT LIFESTYLE
LOCATION:Zephyr\, Zephyr\, Uxbridge\, Ontario\, L0E 1T0\, Canada
GEO:44.2010255;-79.26513640000002
X-APPLE-STRUCTURED-LOCATION;VALUE=URI;X-ADDRESS=Zephyr\, Uxbridge\, Ontario
 \, L0E 1T0\, Canada;X-APPLE-RADIUS=100;X-TITLE=Zephyr:geo:44.2010255,-79.2
 6513640000002
END:VEVENT
BEGIN:VTIMEZONE
TZID:America/Toronto
X-LIC-LOCATION:America/Toronto
BEGIN:DAYLIGHT
DTSTART:20160313T030000
TZOFFSETFROM:-0500
TZOFFSETTO:-0400
TZNAME:EDT
END:DAYLIGHT
END:VTIMEZONE
END:VCALENDAR