BEGIN:VCALENDAR
VERSION:2.0
PRODID:-//wp-events-plugin.com//7.2.3.1//EN
TZID:America/Toronto
X-WR-TIMEZONE:America/Toronto
BEGIN:VEVENT
UID:42@ingridcryns.ca
DTSTART;TZID=America/Toronto:20231021T180000
DTEND;TZID=America/Toronto:20231021T220000
DTSTAMP:20231018T124716Z
URL:https://ingridcryns.ca/events/we-wisdom-circle-of-grandmothers-cacao-c
 eremony-potluck-celebrations/
SUMMARY:WE Wisdom | Circle of Grandmothers & Cacao Ceremony\, Potluck & Cel
 ebrations!
DESCRIPTION:Join us for our unique monthly Celebrations Events on\, \nS
 aturday\, Oct 21\n\nCome and join us at our monthly: \nWE Wisdom\nCircle
  of Grandmothers \nCacao Ceremony \nPlus CELEBRATIONS afterwards...\nPot
 luck Dinner\, chanting\, drumming &amp\; dancing\nCome join us to celebrat
 e together in this auspicious &amp\; liminal time of the 'in-between'\nSa
 cred potential is all around us \nLet us tend to our hearts in deep conne
 ction to ourselves\, one another\, the community\, and our beloved Mother
  Earth\n\n\nArrive around 5:30 pm for a 6 pm start to our event.....(we a
 sk that you arrive on time as there will be a specific sequence of sacred 
 presence required to not be interrupted with our Cacao Ceremony at the beg
 inning)\n\nThere will be a unique Circle of the Grandmothers\, Cacao Cere
 mony &amp\; Prayers\, with sharing\, holding space\, meditation\, drummi
 ng\, and sound chanting\, healing experiences.  We will be listening toge
 ther with what comes through and address that as needed. There may be an i
 ndividual or group focus\, archetypical expressions and/or channeling mess
 ages coming through the community at this time.\n\n\n\nThe Circle of Gran
 dmothers is a form of the Divine Feminine energies that are emerging more 
 fully in these times.  They are archetypal and spiritual beings that reso
 nate at a higher frequency. They are a group that is unlimited in numbers 
 in its circular\, relational form\, that holds a sacred light weaving of n
 ew patterns of deep loving connections\, inclusiveness\, reciprocity of gi
 ving and receiving\, songs and so much more. They offer healing to anyone 
 who is called to invite them into their awareness.  We are honoured to be
  able to hold and share space with their beautiful\, loving\, and upliftin
 g energies of deep\, earthy wisdom experiences.\n"We have come to restore 
 Yin to full beauty/power and return the world to balance. " - The Circle 
 of Grandmothers\nWe are holding space together\, to support the intense sh
 ifts that are occurring in these auspicious transformational shifting time
 s\, to allow individual and community healing through the confusion and di
 sintegration of our current\, existing realities.\n\n\nCacao Ceremony\nWe 
 will be offering a heart-opening Cacao Ceremony to deepen the experience a
 nd create greater connection and belonging\, within\, with each other\, an
 d with our beloved Earth!\n&nbsp\;\n\nIn good weather we may be outside ar
 ound the firepit\, in colder or bad weather\, we will be inside the Yurt. 
  Or a combination of both may happen as well....\n\nStarting at 7:30/8 pm
 \, we will be celebrating with a shared potluck meal (please provide a not
 e with your name and ingredients: Gluten Free\, Dairy Free\, Sugar-Free\, 
 Vegetarian\, Vegan\, meat/fish\, are all very welcome!)\, non-alcoholic 
 drinks to share\, a water bottle.\n\nAround 8:30/9 pm\, for a couple of ho
 urs\, we will mingle\, chat and/or begin dancing\, drumming\, singing\, li
 stening to playlist music\, and moving our bodies in ecstatic joy togethe
 r.  (We respectfully ask that if you offer body contact to another\, you
  signal with a light touch first and get permission with a nod of the head
  from the other first.)\n\nLooking forward to experiencing healing and joy
 s with you all!\n\nPlease RSVP online by joining the Wild Earth Wisdom com
 munity at the below link!\n\nSee you there!\n\nCheck out the Community Cir
 cles and explore the Wild Earth Wisdom Community to connect more with each
  other here!\n\nEvent registration ends on Oct 18.  Please contact us dir
 ectly at 866-888-7662 or ingrid@buildingsoul.ca if you are still interes
 ted in attending after that date.  (We reserve the right to cancel the ev
 ent if less than 5 people register.)\n\nThe minimum fee is $25.  Optional
  Fee's are $35/$45/$55\n\nPayment can be made at the link below or by e-tr
 ansfer to ingrid@buildingsoul.ca to confirm RSVP
ATTACH;FMTTYPE=image/jpeg:https://ingridcryns.ca/wp-content/uploads/2023/1
 0/2023_Wildearthwisdom_MN-event-header_Lay01.webp
CATEGORIES:Wild Earth Wisdom WORKSHOPS: SELF-SUFFICIENT LIFESTYLE
LOCATION:Zephyr\, Zephyr\, Uxbridge\, Ontario\, L0E 1T0\, Canada
GEO:44.2010255;-79.26513640000002
X-APPLE-STRUCTURED-LOCATION;VALUE=URI;X-ADDRESS=Zephyr\, Uxbridge\, Ontario
 \, L0E 1T0\, Canada;X-APPLE-RADIUS=100;X-TITLE=Zephyr:geo:44.2010255,-79.2
 6513640000002
END:VEVENT
BEGIN:VTIMEZONE
TZID:America/Toronto
X-LIC-LOCATION:America/Toronto
BEGIN:DAYLIGHT
DTSTART:20230312T030000
TZOFFSETFROM:-0500
TZOFFSETTO:-0400
TZNAME:EDT
END:DAYLIGHT
END:VTIMEZONE
END:VCALENDAR